BEGIN:VCALENDAR
VERSION:2.0
PRODID:-//eventon.com NONSGML v1.0//EN
CALSCALE:GREGORIAN
METHOD:PUBLISH
BEGIN:VEVENT
UID:69e9821815151
DTSTAMP:20260423T022112Z
DTSTART:20191118T230000Z
DTEND:20191119T045900Z
LOCATION:Town Hall 211 Central Ave
SUMMARY:Historic Review Board
DESCRIPTION:The Historic Review Board meets the third Monday of each month 
 at 6:00 pm in the Town Council Chamber at Town Hall and the meetings are op
 en to the public. For more information click here\nhttps://www.townoftazewe
 ll.org/events/hrb-meeting/
URL:https://www.townoftazewell.org/events/hrb-meeting/
END:VEVENT
END:VCALENDAR