BEGIN:VCALENDAR
VERSION:2.0
PRODID:-//eventon.com NONSGML v1.0//EN
CALSCALE:GREGORIAN
METHOD:PUBLISH
BEGIN:VEVENT
UID:69ea2de636d1b
DTSTAMP:20260423T143414Z
DTSTART:20260501T153000Z
DTEND:20260502T035900Z
LOCATION:Clinch River Pavilion &amp; River Walk 1615 Riverside Drive
SUMMARY:Grand Opening: Clinch River Pavilion & River Walk
DESCRIPTION:The Clinch River Pavilion &amp; River Walk is a vibrant communi
 ty-focused space that aligns with the town&#8217;s mission to provide acces
 sible and enjoyable community facilities. The pavilion and river walk will 
 host various events and activities\,  including seasonal festivals\,  and c
 ommunity programs\,  along with serving as the new home of[..]\nhttps://www
 .townoftazewell.org/events/clinch-river-pavilion-river-walk/
URL:https://www.townoftazewell.org/events/clinch-river-pavilion-river-walk/
END:VEVENT
END:VCALENDAR