BEGIN:VCALENDAR
VERSION:2.0
PRODID:-//eventon.com NONSGML v1.0//EN
CALSCALE:GREGORIAN
METHOD:PUBLISH
BEGIN:VEVENT
UID:69ead2ffbb21e
DTSTAMP:20260424T021839Z
DTSTART:20240207T230000Z
DTEND:20240208T045900Z
LOCATION:Town Hall 211 Central Ave
SUMMARY:Town Council Special Called Meeting
DESCRIPTION:A Special Called Town Council meeting will be held on Wednesday
 \,  February 7\,  2024\,  at 6:00 p.m. in the Town of Tazewell&#8217;s Town
  Council Chambers located at 211 Central Avenue. The reason for the meeting
  is to address these issues: [A] Personnel Matters [Section 2.2-3711 (A)(1)
 ] Review of resumes submitted[..]\nhttps://www.townoftazewell.org/events/to
 wn-council-special-called-meeting-02-07-2024/
URL:https://www.townoftazewell.org/events/town-council-special-called-meeting-02-07-2024/
END:VEVENT
END:VCALENDAR