BEGIN:VCALENDAR
VERSION:2.0
PRODID:-//eventon.com NONSGML v1.0//EN
CALSCALE:GREGORIAN
METHOD:PUBLISH
BEGIN:VEVENT
UID:69e73e3ac9e01
DTSTAMP:20260421T090706Z
DTSTART:20230516T230000Z
DTEND:20230517T035000Z
LOCATION:Town Hall 211 Central Ave
SUMMARY:Special Called Town Council Meeting May 16
DESCRIPTION:SPECIAL CALLED COUNCIL WORK SESSION Tuesday\,  May 16\,  2023&n
 bsp; 7:00 p.m. Town of Tazewell Council Chambers The reason for the meeting
  is to brainstorm ideas to set a definitive direction in creating a path of
  economic survival.\nhttps://www.townoftazewell.org/events/special-called-t
 own-council-meeting-may-16-2023/
URL:https://www.townoftazewell.org/events/special-called-town-council-meeting-may-16-2023/
END:VEVENT
END:VCALENDAR